BEGIN:VCALENDAR
VERSION:2.0
PRODID:-//Ottumwa Community Church - ECPv6.15.20//NONSGML v1.0//EN
CALSCALE:GREGORIAN
METHOD:PUBLISH
X-WR-CALNAME:Ottumwa Community Church
X-ORIGINAL-URL:https://ottumwacommunitychurch.com
X-WR-CALDESC:Events for Ottumwa Community Church
REFRESH-INTERVAL;VALUE=DURATION:PT1H
X-Robots-Tag:noindex
X-PUBLISHED-TTL:PT1H
BEGIN:VTIMEZONE
TZID:UTC
BEGIN:STANDARD
TZOFFSETFROM:+0000
TZOFFSETTO:+0000
TZNAME:UTC
DTSTART:20210101T000000
END:STANDARD
END:VTIMEZONE
BEGIN:VEVENT
DTSTART;TZID=UTC:20221206T103000
DTEND;TZID=UTC:20221206T120000
DTSTAMP:20260420T020458
CREATED:20221201T170417Z
LAST-MODIFIED:20221201T170418Z
UID:10001334-1670322600-1670328000@ottumwacommunitychurch.com
SUMMARY:Tuesday Men's Group
DESCRIPTION:Come study various Bible topics with Dwight Headley on Tuesday mornings that focus on certain aspects of the church from church activities to overseas missions. Then join then at lunch at China Star Buffet. \n  \n 
URL:https://ottumwacommunitychurch.com/event/mens-group-3/
LOCATION:Ottumwa Community Church\, 305 S Walnut Ave.\, Ottumwa\, IA\, 52501\, United States
CATEGORIES:10:30 am - 11:45 am
ATTACH;FMTTYPE=image/jpeg:https://ottumwacommunitychurch.com/wp-content/uploads/2021/05/Mens-Bible-Study.jpg
END:VEVENT
END:VCALENDAR