BEGIN:VCALENDAR
VERSION:2.0
PRODID:-//Ottumwa Community Church - ECPv6.15.20//NONSGML v1.0//EN
CALSCALE:GREGORIAN
METHOD:PUBLISH
X-WR-CALNAME:Ottumwa Community Church
X-ORIGINAL-URL:https://ottumwacommunitychurch.com
X-WR-CALDESC:Events for Ottumwa Community Church
REFRESH-INTERVAL;VALUE=DURATION:PT1H
X-Robots-Tag:noindex
X-PUBLISHED-TTL:PT1H
BEGIN:VTIMEZONE
TZID:UTC
BEGIN:STANDARD
TZOFFSETFROM:+0000
TZOFFSETTO:+0000
TZNAME:UTC
DTSTART:20210101T000000
END:STANDARD
END:VTIMEZONE
BEGIN:VEVENT
DTSTART;TZID=UTC:20240119T173000
DTEND;TZID=UTC:20240119T210000
DTSTAMP:20260422T053908
CREATED:20240106T155153Z
LAST-MODIFIED:20240106T155153Z
UID:10002110-1705685400-1705698000@ottumwacommunitychurch.com
SUMMARY:Ladies Crafting/Game Weekend
DESCRIPTION:Hey Ladies Crafters and Domino players it is time for another couple of days of fun\, games\, and food (you bring to share)\, and It all starts Friday\, JANUARY 19th @ 5:30-9:00 and resumes on Saturday JANUARY 20th 1:30-8:30 hope to see ya then! \nFor more information email Mrs. Marlene or Janet Yeager.
URL:https://ottumwacommunitychurch.com/event/ladies-crafting-game-weekend-4/
LOCATION:Ottumwa Community Church\, 305 S Walnut Ave.\, Ottumwa\, IA\, 52501\, United States
CATEGORIES:5:30 - 9:00,Ladies Craft Weekend
ATTACH;FMTTYPE=image/jpeg:https://ottumwacommunitychurch.com/wp-content/uploads/2022/05/Crafting.jpg
END:VEVENT
BEGIN:VEVENT
DTSTART;TZID=UTC:20220826T173000
DTEND;TZID=UTC:20220826T210000
DTSTAMP:20260422T053908
CREATED:20220727T014111Z
LAST-MODIFIED:20220826T195839Z
UID:10001656-1661535000-1661547600@ottumwacommunitychurch.com
SUMMARY:Ladies Crafting/Game Weekend
DESCRIPTION:Hey Ladies Crafters and Domino players it is time for another couple of days of fun\, games\, and food (you bring to share)\, and It all starts Friday\, AUGUST 26th @ 5:30-9:00 and resumes on Saturday AUGUST 27th 1:30-8:00 hope to see ya then! \nFor more information email Mrs. Marlene or Janet Yeager.
URL:https://ottumwacommunitychurch.com/event/ladies-crafting-game-weekend-3/
LOCATION:Ottumwa Community Church\, 305 S Walnut Ave.\, Ottumwa\, IA\, 52501\, United States
CATEGORIES:5:30 - 9:00,Ladies Craft Weekend
ATTACH;FMTTYPE=image/jpeg:https://ottumwacommunitychurch.com/wp-content/uploads/2022/05/Crafting.jpg
END:VEVENT
END:VCALENDAR